BEGIN:VCALENDAR
VERSION:2.0
PRODID:-//Hudson Valley Cold Pressed Oils - ECPv6.15.1.1//NONSGML v1.0//EN
CALSCALE:GREGORIAN
METHOD:PUBLISH
X-ORIGINAL-URL:https://hudsonvalleycoldpressedoils.com
X-WR-CALDESC:Events for Hudson Valley Cold Pressed Oils
REFRESH-INTERVAL;VALUE=DURATION:PT1H
X-Robots-Tag:noindex
X-PUBLISHED-TTL:PT1H
BEGIN:VTIMEZONE
TZID:UTC
BEGIN:STANDARD
TZOFFSETFROM:+0000
TZOFFSETTO:+0000
TZNAME:UTC
DTSTART:20240101T000000
END:STANDARD
END:VTIMEZONE
BEGIN:VEVENT
DTSTART;TZID=UTC:20240928T100000
DTEND;TZID=UTC:20240928T170000
DTSTAMP:20260423T191657
CREATED:20240605T133026Z
LAST-MODIFIED:20240605T133026Z
UID:3185-1727517600-1727542800@hudsonvalleycoldpressedoils.com
SUMMARY:Garlic Festival Saugerties
DESCRIPTION:This is a ticketed event. For tickets visit: Tickets | HV Garlic Festival (hvgf.org)
URL:https://hudsonvalleycoldpressedoils.com/event/garlic-festival-saugerties-2/
LOCATION:Washington Avenue Extension\, Washington Avenue Extension\, Saugerties\, NY\, 12477\, United States
END:VEVENT
BEGIN:VEVENT
DTSTART;TZID=UTC:20240901T170000
DTEND;TZID=UTC:20240901T200000
DTSTAMP:20260423T191657
CREATED:20240710T173848Z
LAST-MODIFIED:20240826T122825Z
UID:3279-1725210000-1725220800@hudsonvalleycoldpressedoils.com
SUMMARY:Music & Sunset Night
DESCRIPTION:Sunday\, September 1st 5:00pm- Sunset\nJoin us for our last day of the season! We will be open from 5:00pm-sunset. Full concessions available for purchase as well as local beers\, wines & hard cider. Our pop-up shop will be open as well as our fields for pictures. Listen to the sounds of She’s My Ex starting at 5:30pm until 8:00pm. They are an acoustic duo featuring a mix of folk\, country\, pop music. Admission will be $5.00 PER CAR. Seating is limited. You are welcome to bring your own chair.
URL:https://hudsonvalleycoldpressedoils.com/event/cut-your-own-sunflowers-with-music-sunset-night-31/
END:VEVENT
BEGIN:VEVENT
DTSTART;TZID=UTC:20240831T170000
DTEND;TZID=UTC:20240831T200000
DTSTAMP:20260423T191657
CREATED:20240710T173759Z
LAST-MODIFIED:20240826T122656Z
UID:3277-1725123600-1725134400@hudsonvalleycoldpressedoils.com
SUMMARY:Music & Sunset Night
DESCRIPTION:Saturday\, August 31st 5:00pm- Sunset\nWe will be open from 5:00pm-sunset. Full concessions available for purchase as well as local beers\, wines & hard cider. Our pop-up shop will be open as well as our fields for pictures. Listen to the sounds of the Christian Anthony Band starting at 5:30pm until 8:00pm. They are an eclectic duo that plays timeless hits of the 60’s\, 70’s 80’s and beyond. Admission will be $5.00 PER CAR. Seating is limited. You are welcome to bring your own chair.
URL:https://hudsonvalleycoldpressedoils.com/event/cut-your-own-sunflowers-with-music-sunset-night-30/
END:VEVENT
BEGIN:VEVENT
DTSTART;TZID=UTC:20240830T170000
DTEND;TZID=UTC:20240830T200000
DTSTAMP:20260423T191657
CREATED:20240710T173617Z
LAST-MODIFIED:20240826T122431Z
UID:3275-1725037200-1725048000@hudsonvalleycoldpressedoils.com
SUMMARY:Music & Sunset Night
DESCRIPTION:Friday\, August 30th 5:00pm- Sunset\nWe will be open from 5:00pm-sunset. Full concessions available for purchase as well as local beers\, wines & hard cider. Our pop-up shop will be open as well as our fields for pictures. Listen to the sounds of Jeff Armstrong’s AZULADO starting at 5:30pm until 8:00pm. They are a jazz trio who will be playing a Samba PaTi Santana tribute set. Admission will be $5.00 PER CAR. Seating is limited. You are welcome to bring your own chair
URL:https://hudsonvalleycoldpressedoils.com/event/cut-your-own-sunflowers-with-music-sunset-night-29/
END:VEVENT
BEGIN:VEVENT
DTSTART;TZID=UTC:20240825T100000
DTEND;TZID=UTC:20240825T200000
DTSTAMP:20260423T191657
CREATED:20240710T172816Z
LAST-MODIFIED:20240825T143831Z
UID:3265-1724580000-1724616000@hudsonvalleycoldpressedoils.com
SUMMARY:Cut Your Own Sunflowers with Music & Sunset Night
DESCRIPTION:Sunday\, August 25th 10:00am- Sunset\nThe hours of operation will depend on the flowers. Full concessions available for purchase as well as local beers\, wines & hard cider. Admission is free until 5pm when we will have live music with the sound of The Acoustic Bad Boys starting at 5:30pm until 8:00pm. They are a rock acoustic duo. Admission will be $5.00 PER CAR after 5pm. Please read our “Know Before You Go” for more information.
URL:https://hudsonvalleycoldpressedoils.com/event/cut-your-own-sunflowers-with-music-sunset-night-28/
END:VEVENT
BEGIN:VEVENT
DTSTART;TZID=UTC:20240824T100000
DTEND;TZID=UTC:20240824T200000
DTSTAMP:20260423T191657
CREATED:20240710T172731Z
LAST-MODIFIED:20240710T172731Z
UID:3263-1724493600-1724529600@hudsonvalleycoldpressedoils.com
SUMMARY:Cut Your Own Sunflowers with Music & Sunset Night
DESCRIPTION:Saturday\, August 24th     10:00am- Sunset\nThe hours of operation will depend on the flowers. We will continue to open even if we do not have flowers to pick in the evenings. Full concessions available for purchase as well as local beers\, wines & hard cider. Admission is free until 5pm when we will have live music with the sound of Junction starting at 5:30pm until 8:00pm. They are a classic rock acoustic duo. Admission will be $5.00 PER CAR after 5pm.  Please read our “Know Before You Go” for more information.
URL:https://hudsonvalleycoldpressedoils.com/event/cut-your-own-sunflowers-with-music-sunset-night-27/
END:VEVENT
BEGIN:VEVENT
DTSTART;TZID=UTC:20240823T100000
DTEND;TZID=UTC:20240823T200000
DTSTAMP:20260423T191657
CREATED:20240710T172553Z
LAST-MODIFIED:20240710T172553Z
UID:3261-1724407200-1724443200@hudsonvalleycoldpressedoils.com
SUMMARY:Cut Your Own Sunflowers with Music & Sunset Night
DESCRIPTION:Friday\, August 23rd   10:00am- Sunset\nThe hours of operation will depend on the flowers. We will continue to open even if we do not have flowers to pick in the evenings. Full concessions available for purchase as well as local beers\, wines & hard cider. Admission is free until 5pm when we will have live music with Christian Anthony Band starting at 5:30pm until 8:00pm. They are an eclectic duo that plays timeless hits of the 60’s\, 70’s 80’s and beyond.  Admission will be $5.00 PER CAR after 5pm.  Please read our “Know Before You Go” for more information.
URL:https://hudsonvalleycoldpressedoils.com/event/cut-your-own-sunflowers-with-music-sunset-night-26/
END:VEVENT
BEGIN:VEVENT
DTSTART;TZID=UTC:20240822T120000
DTEND;TZID=UTC:20240822T180000
DTSTAMP:20260423T191657
CREATED:20240710T172215Z
LAST-MODIFIED:20240710T172215Z
UID:3259-1724328000-1724349600@hudsonvalleycoldpressedoils.com
SUMMARY:Cut Your Own Sunflowers
DESCRIPTION:Thursday\, August 22nd          12:00pm- 6:00pm\nOpen pending flowers. Free admission all day. Lite concessions available for purchase. Please read our “Know Before You Go” for more information.
URL:https://hudsonvalleycoldpressedoils.com/event/cut-your-own-sunflowers-21/
END:VEVENT
BEGIN:VEVENT
DTSTART;TZID=UTC:20240821T120000
DTEND;TZID=UTC:20240821T180000
DTSTAMP:20260423T191657
CREATED:20240710T171202Z
LAST-MODIFIED:20240710T171711Z
UID:3257-1724241600-1724263200@hudsonvalleycoldpressedoils.com
SUMMARY:Cut Your Own Sunflowers
DESCRIPTION:Wednesday\, August 21st           12:00pm- 6:00pm\nOpen pending flowers. Free admission all day. Lite concessions available for purchase. Please read our “Know Before You Go” for more information.
URL:https://hudsonvalleycoldpressedoils.com/event/cut-your-own-sunflowers-20/
END:VEVENT
BEGIN:VEVENT
DTSTART;TZID=UTC:20240820T120000
DTEND;TZID=UTC:20240820T180000
DTSTAMP:20260423T191657
CREATED:20240710T171121Z
LAST-MODIFIED:20240710T171121Z
UID:3255-1724155200-1724176800@hudsonvalleycoldpressedoils.com
SUMMARY:Cut Your Own Sunflowers
DESCRIPTION:Tuesday\, August 20th          12:00pm- 6:00pm\nOpen pending flowers. Free admission all day. Lite concessions available for purchase. Please read our “Know Before You Go” for more information.
URL:https://hudsonvalleycoldpressedoils.com/event/cut-your-own-sunflowers-19/
END:VEVENT
BEGIN:VEVENT
DTSTART;TZID=UTC:20240819T120000
DTEND;TZID=UTC:20240819T180000
DTSTAMP:20260423T191657
CREATED:20240710T170846Z
LAST-MODIFIED:20240710T170846Z
UID:3253-1724068800-1724090400@hudsonvalleycoldpressedoils.com
SUMMARY:Cut Your Own Sunflowers
DESCRIPTION:Monday\, August 19th      12:00pm- 6:00pm\nOpen pending flowers. Free admission all day. Lite concessions available for purchase. Please read our “Know Before You Go” for more information.
URL:https://hudsonvalleycoldpressedoils.com/event/cut-your-own-sunflowers-18/
END:VEVENT
BEGIN:VEVENT
DTSTART;TZID=UTC:20240818T180000
DTEND;TZID=UTC:20240818T200000
DTSTAMP:20260423T191657
CREATED:20240710T170755Z
LAST-MODIFIED:20240818T170408Z
UID:3251-1724004000-1724011200@hudsonvalleycoldpressedoils.com
SUMMARY:DELAYED OPENING - OPENING AT 6 PM
DESCRIPTION:Today is Sunday August 18th and we are currently on a delayed opening due to the weather. We will be opening at 6 pm. Admission is free\, but live music has been canceled for this evening. 
URL:https://hudsonvalleycoldpressedoils.com/event/cut-your-own-sunflowers-with-music-sunset-night-25/
END:VEVENT
BEGIN:VEVENT
DTSTART;TZID=UTC:20240817T100000
DTEND;TZID=UTC:20240817T200000
DTSTAMP:20260423T191657
CREATED:20240710T170656Z
LAST-MODIFIED:20240710T170656Z
UID:3249-1723888800-1723924800@hudsonvalleycoldpressedoils.com
SUMMARY:Cut Your Own Sunflowers with Music & Sunset Night
DESCRIPTION:Saturday\, August 17th     10:00am- Sunset\nWe will be open from 10am-sunset. Full concessions available for purchase as well as local beers\, wines & hard cider. Admission is free until 5pm when we will have live music with the sound of The Acoustic Bad Boys starting at 5:30pm until 8:00pm. They are a rock acoustic duo. Admission will be $5.00 PER CAR after 5pm.  Please read our “Know Before You Go” for more information.
URL:https://hudsonvalleycoldpressedoils.com/event/cut-your-own-sunflowers-with-music-sunset-night-24/
END:VEVENT
BEGIN:VEVENT
DTSTART;TZID=UTC:20240816T100000
DTEND;TZID=UTC:20240816T200000
DTSTAMP:20260423T191657
CREATED:20240710T170607Z
LAST-MODIFIED:20240710T170607Z
UID:3247-1723802400-1723838400@hudsonvalleycoldpressedoils.com
SUMMARY:Cut Your Own Sunflowers with Music & Sunset Night
DESCRIPTION:Friday\, August 16th     10:00am- Sunset\nWe will be open from 10am-sunset. Full concessions available for purchase as well as local beers\, wines & hard cider. Admission is free until 5pm when we will have live music with the sound of She’s My Ex starting at 5:30pm until 8:00pm. They are an acoustic duo featuring a mix of folk\, country\, pop music. Admission will be $5.00 PER CAR after 5pm. Please read our “Know Before You Go” for more information.
URL:https://hudsonvalleycoldpressedoils.com/event/cut-your-own-sunflowers-with-music-sunset-night-23/
END:VEVENT
BEGIN:VEVENT
DTSTART;TZID=UTC:20240815T120000
DTEND;TZID=UTC:20240815T180000
DTSTAMP:20260423T191657
CREATED:20240710T170240Z
LAST-MODIFIED:20240811T143237Z
UID:3244-1723723200-1723744800@hudsonvalleycoldpressedoils.com
SUMMARY:CLOSED
DESCRIPTION:CLOSED
URL:https://hudsonvalleycoldpressedoils.com/event/cut-your-own-sunflowers-17/
END:VEVENT
BEGIN:VEVENT
DTSTART;TZID=UTC:20240814T120000
DTEND;TZID=UTC:20240814T180000
DTSTAMP:20260423T191657
CREATED:20240710T170052Z
LAST-MODIFIED:20240811T143147Z
UID:3242-1723636800-1723658400@hudsonvalleycoldpressedoils.com
SUMMARY:CLOSED
DESCRIPTION:CLOSED
URL:https://hudsonvalleycoldpressedoils.com/event/cut-your-own-sunflowers-16/
END:VEVENT
BEGIN:VEVENT
DTSTART;TZID=UTC:20240813T120000
DTEND;TZID=UTC:20240813T180000
DTSTAMP:20260423T191657
CREATED:20240710T170008Z
LAST-MODIFIED:20240811T143035Z
UID:3240-1723550400-1723572000@hudsonvalleycoldpressedoils.com
SUMMARY:CLOSED
DESCRIPTION:CLOSED
URL:https://hudsonvalleycoldpressedoils.com/event/cut-your-own-sunflowers-15/
END:VEVENT
BEGIN:VEVENT
DTSTART;TZID=UTC:20240812T120000
DTEND;TZID=UTC:20240812T180000
DTSTAMP:20260423T191657
CREATED:20240710T165901Z
LAST-MODIFIED:20240811T143005Z
UID:3238-1723464000-1723485600@hudsonvalleycoldpressedoils.com
SUMMARY:CLOSED
DESCRIPTION:CLOSED
URL:https://hudsonvalleycoldpressedoils.com/event/cut-your-own-sunflowers-14/
END:VEVENT
BEGIN:VEVENT
DTSTART;TZID=UTC:20240811T170000
DTEND;TZID=UTC:20240811T200000
DTSTAMP:20260423T191657
CREATED:20240710T165653Z
LAST-MODIFIED:20240810T141140Z
UID:3236-1723395600-1723406400@hudsonvalleycoldpressedoils.com
SUMMARY:Music & Sunset Night
DESCRIPTION:We will be open from 5:00pm-sunset. Full concessions available for purchase as well as local beers\, wines & hard cider. Our pop up shop will be open as well as our fields for pictures. Listen to the sounds of Junction starting at 5:30pm until 8:00pm. They are a classic rock acoustic duo. Admission will be $5.00 PER CAR
URL:https://hudsonvalleycoldpressedoils.com/event/cut-your-own-sunflowers-with-music-sunset-night-22/
END:VEVENT
BEGIN:VEVENT
DTSTART;TZID=UTC:20240810T170000
DTEND;TZID=UTC:20240810T200000
DTSTAMP:20260423T191657
CREATED:20240710T165513Z
LAST-MODIFIED:20240810T141035Z
UID:3234-1723309200-1723320000@hudsonvalleycoldpressedoils.com
SUMMARY:Music & Sunset Night
DESCRIPTION:We will be open from 5:00pm-sunset. Full concessions available for purchase as well as local beers\, wines & hard cider. Our pop up shop will be open as well as our fields for pictures. Listen to the sounds of She’s My Ex starting at 5:30pm until 8:00pm. They are an acoustic duo featuring a mix of folk\, country\, pop music. Admission will be $5.00 PER CAR
URL:https://hudsonvalleycoldpressedoils.com/event/cut-your-own-sunflowers-with-music-sunset-night-21/
END:VEVENT
BEGIN:VEVENT
DTSTART;TZID=UTC:20240809T100000
DTEND;TZID=UTC:20240809T200000
DTSTAMP:20260423T191657
CREATED:20240710T165425Z
LAST-MODIFIED:20240808T212356Z
UID:3232-1723197600-1723233600@hudsonvalleycoldpressedoils.com
SUMMARY:Fields are closed
DESCRIPTION:We will be closed due to weather conditions. We will reopen on Saturday August 10th for sunflower picking\, food\, beverages & music.
URL:https://hudsonvalleycoldpressedoils.com/event/cut-your-own-sunflowers-with-music-sunset-night-20/
END:VEVENT
BEGIN:VEVENT
DTSTART;TZID=UTC:20240808T120000
DTEND;TZID=UTC:20240808T180000
DTSTAMP:20260423T191657
CREATED:20240710T165311Z
LAST-MODIFIED:20240805T133314Z
UID:3230-1723118400-1723140000@hudsonvalleycoldpressedoils.com
SUMMARY:Fields are closed
DESCRIPTION:Our current fields are very limited on new flowers to cut. We will be open Friday\, Saturday & Sundays with live music\, food\, beverages and limited flower picking. Please note that we have another field growing and should be open soon to pick Sunflowers.
URL:https://hudsonvalleycoldpressedoils.com/event/cut-your-on-sunflowers-2/
END:VEVENT
BEGIN:VEVENT
DTSTART;TZID=UTC:20240807T120000
DTEND;TZID=UTC:20240807T180000
DTSTAMP:20260423T191657
CREATED:20240710T132740Z
LAST-MODIFIED:20240805T133157Z
UID:3228-1723032000-1723053600@hudsonvalleycoldpressedoils.com
SUMMARY:Fields are closed
DESCRIPTION:Our current fields are very limited on new flowers to cut. We will be open Friday\, Saturday & Sundays with live music\, food\, beverages and limited flower picking. Please note that we have another field growing and should be open soon to pick Sunflowers.
URL:https://hudsonvalleycoldpressedoils.com/event/cut-your-own-sunflowers-13/
END:VEVENT
BEGIN:VEVENT
DTSTART;TZID=UTC:20240806T120000
DTEND;TZID=UTC:20240806T180000
DTSTAMP:20260423T191657
CREATED:20240710T131950Z
LAST-MODIFIED:20240805T133048Z
UID:3226-1722945600-1722967200@hudsonvalleycoldpressedoils.com
SUMMARY:Fields are closed
DESCRIPTION:Our current fields are very limited on new flowers to cut. We will be open Friday\, Saturday & Sundays with live music\, food\, beverages and limited flower picking. Please note that we have another field growing and should be open soon to pick Sunflowers.
URL:https://hudsonvalleycoldpressedoils.com/event/cut-your-own-sunflowers-12/
END:VEVENT
BEGIN:VEVENT
DTSTART;TZID=UTC:20240805T120000
DTEND;TZID=UTC:20240805T180000
DTSTAMP:20260423T191657
CREATED:20240710T131013Z
LAST-MODIFIED:20240805T132950Z
UID:3224-1722859200-1722880800@hudsonvalleycoldpressedoils.com
SUMMARY:Fields are closed
DESCRIPTION:Our current fields are very limited on new flowers to cut. We will be open Friday\, Saturday & Sundays with live music\, food\, beverages and limited flower picking. Please note that we have another field growing and should be open soon to pick Sunflowers.
URL:https://hudsonvalleycoldpressedoils.com/event/cut-your-own-sunflowers-11/
END:VEVENT
BEGIN:VEVENT
DTSTART;VALUE=DATE:20240804
DTEND;VALUE=DATE:20240805
DTSTAMP:20260423T191657
CREATED:20240710T130811Z
LAST-MODIFIED:20240804T205119Z
UID:3222-1722729600-1722815999@hudsonvalleycoldpressedoils.com
SUMMARY:Cut your own sunflowers with music
DESCRIPTION:We will be open from 10am-sunset. Full concessions available for purchase as well as local beers\, wines & hard cider Admission is free until 5pm when we will have live music with the sound of The She’s My Ex starting at 5:30pm until 8:00pm. They are an acoustic duo featuring a mix of folk\, country\, pop music. Admission will be $5.00 PER CAR after 5pm. Please read our “Know Before You Go” for more information.
URL:https://hudsonvalleycoldpressedoils.com/event/cut-your-own-sunflowers-with-music-sunset-night-18/
END:VEVENT
BEGIN:VEVENT
DTSTART;TZID=UTC:20240803T100000
DTEND;TZID=UTC:20240803T200000
DTSTAMP:20260423T191657
CREATED:20240710T130101Z
LAST-MODIFIED:20240710T130101Z
UID:3220-1722679200-1722715200@hudsonvalleycoldpressedoils.com
SUMMARY:Cut Your Own Sunflowers with Music & Sunset Night
DESCRIPTION:Saturday\, August 3rd  10:00am- Sunset \nWe will be open from 10am-sunset. Full concessions available for purchase as well as local beers\, wines & hard cider Admission is free until 5pm when we will have live music with the sound of Willow Blue starting at 5:30pm until 8:00pm. They are a blues\, rock and soul duo. Admission will be $5.00 PER CAR after 5pm.  Please read our “Know Before You Go” for more information.
URL:https://hudsonvalleycoldpressedoils.com/event/cut-your-own-sunflowers-with-music-sunset-night-17/
END:VEVENT
BEGIN:VEVENT
DTSTART;TZID=UTC:20240802T100000
DTEND;TZID=UTC:20240802T200000
DTSTAMP:20260423T191657
CREATED:20240710T125945Z
LAST-MODIFIED:20240802T193807Z
UID:3218-1722592800-1722628800@hudsonvalleycoldpressedoils.com
SUMMARY:Closed Due to Weather
DESCRIPTION:Closed Due to Weather  \nOpening tomorrow at 10am. Please check back for possible delayed opening due to the storm.
URL:https://hudsonvalleycoldpressedoils.com/event/cut-your-own-sunflowers-with-music-sunset-night-16/
END:VEVENT
BEGIN:VEVENT
DTSTART;TZID=UTC:20240801T120000
DTEND;TZID=UTC:20240801T180000
DTSTAMP:20260423T191657
CREATED:20240710T125805Z
LAST-MODIFIED:20240715T201602Z
UID:3216-1722513600-1722535200@hudsonvalleycoldpressedoils.com
SUMMARY:Cut your on Sunflowers
DESCRIPTION:Thursday\, August 1st  12:00pm- 6:00pm (Pending Flowers) \nFree admission all day. Lite concessions available for purchase. Please read our “Know Before You Go” for more information.
URL:https://hudsonvalleycoldpressedoils.com/event/cut-your-on-sunflowers/
END:VEVENT
BEGIN:VEVENT
DTSTART;VALUE=DATE:20240731
DTEND;VALUE=DATE:20240801
DTSTAMP:20260423T191657
CREATED:20240710T124350Z
LAST-MODIFIED:20240731T135544Z
UID:3214-1722384000-1722470399@hudsonvalleycoldpressedoils.com
SUMMARY:CLOSED DUE TO EXPECTED WEATHER CONDITIONS
DESCRIPTION:CLOSED DUE TO EXPECTED WEATHER CONDITIONS
URL:https://hudsonvalleycoldpressedoils.com/event/cut-your-own-sunflowers-10/
END:VEVENT
END:VCALENDAR