BEGIN:VCALENDAR
VERSION:2.0
PRODID:-//Hudson Valley Cold Pressed Oils - ECPv6.15.1.1//NONSGML v1.0//EN
CALSCALE:GREGORIAN
METHOD:PUBLISH
X-ORIGINAL-URL:https://hudsonvalleycoldpressedoils.com
X-WR-CALDESC:Events for Hudson Valley Cold Pressed Oils
REFRESH-INTERVAL;VALUE=DURATION:PT1H
X-Robots-Tag:noindex
X-PUBLISHED-TTL:PT1H
BEGIN:VTIMEZONE
TZID:UTC
BEGIN:STANDARD
TZOFFSETFROM:+0000
TZOFFSETTO:+0000
TZNAME:UTC
DTSTART:20230101T000000
END:STANDARD
END:VTIMEZONE
BEGIN:VEVENT
DTSTART;TZID=UTC:20240805T120000
DTEND;TZID=UTC:20240805T180000
DTSTAMP:20260423T215742
CREATED:20240710T131013Z
LAST-MODIFIED:20240805T132950Z
UID:3224-1722859200-1722880800@hudsonvalleycoldpressedoils.com
SUMMARY:Fields are closed
DESCRIPTION:Our current fields are very limited on new flowers to cut. We will be open Friday\, Saturday & Sundays with live music\, food\, beverages and limited flower picking. Please note that we have another field growing and should be open soon to pick Sunflowers.
URL:https://hudsonvalleycoldpressedoils.com/event/cut-your-own-sunflowers-11/
END:VEVENT
BEGIN:VEVENT
DTSTART;VALUE=DATE:20240804
DTEND;VALUE=DATE:20240805
DTSTAMP:20260423T215742
CREATED:20240710T130811Z
LAST-MODIFIED:20240804T205119Z
UID:3222-1722729600-1722815999@hudsonvalleycoldpressedoils.com
SUMMARY:Cut your own sunflowers with music
DESCRIPTION:We will be open from 10am-sunset. Full concessions available for purchase as well as local beers\, wines & hard cider Admission is free until 5pm when we will have live music with the sound of The She’s My Ex starting at 5:30pm until 8:00pm. They are an acoustic duo featuring a mix of folk\, country\, pop music. Admission will be $5.00 PER CAR after 5pm. Please read our “Know Before You Go” for more information.
URL:https://hudsonvalleycoldpressedoils.com/event/cut-your-own-sunflowers-with-music-sunset-night-18/
END:VEVENT
BEGIN:VEVENT
DTSTART;TZID=UTC:20240803T100000
DTEND;TZID=UTC:20240803T200000
DTSTAMP:20260423T215742
CREATED:20240710T130101Z
LAST-MODIFIED:20240710T130101Z
UID:3220-1722679200-1722715200@hudsonvalleycoldpressedoils.com
SUMMARY:Cut Your Own Sunflowers with Music & Sunset Night
DESCRIPTION:Saturday\, August 3rd  10:00am- Sunset \nWe will be open from 10am-sunset. Full concessions available for purchase as well as local beers\, wines & hard cider Admission is free until 5pm when we will have live music with the sound of Willow Blue starting at 5:30pm until 8:00pm. They are a blues\, rock and soul duo. Admission will be $5.00 PER CAR after 5pm.  Please read our “Know Before You Go” for more information.
URL:https://hudsonvalleycoldpressedoils.com/event/cut-your-own-sunflowers-with-music-sunset-night-17/
END:VEVENT
BEGIN:VEVENT
DTSTART;TZID=UTC:20240802T100000
DTEND;TZID=UTC:20240802T200000
DTSTAMP:20260423T215742
CREATED:20240710T125945Z
LAST-MODIFIED:20240802T193807Z
UID:3218-1722592800-1722628800@hudsonvalleycoldpressedoils.com
SUMMARY:Closed Due to Weather
DESCRIPTION:Closed Due to Weather  \nOpening tomorrow at 10am. Please check back for possible delayed opening due to the storm.
URL:https://hudsonvalleycoldpressedoils.com/event/cut-your-own-sunflowers-with-music-sunset-night-16/
END:VEVENT
BEGIN:VEVENT
DTSTART;TZID=UTC:20240801T120000
DTEND;TZID=UTC:20240801T180000
DTSTAMP:20260423T215742
CREATED:20240710T125805Z
LAST-MODIFIED:20240715T201602Z
UID:3216-1722513600-1722535200@hudsonvalleycoldpressedoils.com
SUMMARY:Cut your on Sunflowers
DESCRIPTION:Thursday\, August 1st  12:00pm- 6:00pm (Pending Flowers) \nFree admission all day. Lite concessions available for purchase. Please read our “Know Before You Go” for more information.
URL:https://hudsonvalleycoldpressedoils.com/event/cut-your-on-sunflowers/
END:VEVENT
BEGIN:VEVENT
DTSTART;VALUE=DATE:20240731
DTEND;VALUE=DATE:20240801
DTSTAMP:20260423T215742
CREATED:20240710T124350Z
LAST-MODIFIED:20240731T135544Z
UID:3214-1722384000-1722470399@hudsonvalleycoldpressedoils.com
SUMMARY:CLOSED DUE TO EXPECTED WEATHER CONDITIONS
DESCRIPTION:CLOSED DUE TO EXPECTED WEATHER CONDITIONS
URL:https://hudsonvalleycoldpressedoils.com/event/cut-your-own-sunflowers-10/
END:VEVENT
BEGIN:VEVENT
DTSTART;TZID=UTC:20240730T120000
DTEND;TZID=UTC:20240730T180000
DTSTAMP:20260423T215742
CREATED:20240710T124246Z
LAST-MODIFIED:20240710T124246Z
UID:3212-1722340800-1722362400@hudsonvalleycoldpressedoils.com
SUMMARY:Cut Your Own Sunflowers
DESCRIPTION:Tuesday\, July 30th   12:00pm- 6:00pm (Pending Flowers) \nLite concessions available for purchase. Please read our “Know Before You Go” for more information.
URL:https://hudsonvalleycoldpressedoils.com/event/cut-your-own-sunflowers-9/
END:VEVENT
BEGIN:VEVENT
DTSTART;TZID=UTC:20240729T120000
DTEND;TZID=UTC:20240729T180000
DTSTAMP:20260423T215742
CREATED:20240710T124105Z
LAST-MODIFIED:20240729T141444Z
UID:3210-1722254400-1722276000@hudsonvalleycoldpressedoils.com
SUMMARY:CLOSED FOR WEATHER: Cut Your Own Sunflowers
DESCRIPTION:CLOSED FOR WEATHER \nMonday\, July 29th 12:00pm- 6:00pm (Pending Flowers) \nFree admission all day. Lite concessions available for purchase. Please read our “Know Before You Go” for more information.
URL:https://hudsonvalleycoldpressedoils.com/event/cut-your-own-sunflowers-2/
END:VEVENT
BEGIN:VEVENT
DTSTART;TZID=UTC:20240728T100000
DTEND;TZID=UTC:20240728T200000
DTSTAMP:20260423T215742
CREATED:20240710T123832Z
LAST-MODIFIED:20240710T123832Z
UID:3208-1722160800-1722196800@hudsonvalleycoldpressedoils.com
SUMMARY:Cut Your Own Sunflowers with Music & Sunset Night
DESCRIPTION:Sunday\, July 28th 10:00am- Sunset (pending flowers) \nWe will be open from 10am-sunset if the sunflowers are ready for picking. If the fields are not ready yet\, we will still open the gates at 5:00pm for live music starting at 5:30pm. Full concessions available for purchase as well as local beers\, wines & hard cider. Admission is free until 5pm when we will have live music with the sound of Junction starting at 5:30pm until 8:00pm. They are a classic rock acoustic duo. Admission will be $5.00 PER CAR after 5pm.  Please read our “Know Before You Go” for more information.
URL:https://hudsonvalleycoldpressedoils.com/event/cut-your-own-sunflowers-with-music-sunset-night-14/
END:VEVENT
BEGIN:VEVENT
DTSTART;TZID=UTC:20240727T100000
DTEND;TZID=UTC:20240727T200000
DTSTAMP:20260423T215742
CREATED:20240710T123659Z
LAST-MODIFIED:20240710T123659Z
UID:3206-1722074400-1722110400@hudsonvalleycoldpressedoils.com
SUMMARY:Cut Your Own Sunflowers with Music & Sunset Night
DESCRIPTION:Saturday\, July 27th 10:00am- Sunset (pending flowers) \nWe will be open from 10am-sunset if the sunflowers are ready for picking. If the fields are not ready yet\, we will still open the gates at 5:00pm for live music starting at 5:30pm. Full concessions available for purchase as well as local beers\, wines & hard cider. Admission is free until 5pm when we will have live music with the sound of Joe & Caroline starting at 5:30pm until 8:00pm. Their love of music spans decades – from choral to country and everything in between. Come and listen to this acoustic guitar and vocal duo and their unique arrangements of rock\, bluegrass\, and country tunes. Admission will be $5.00 PER CAR after 5pm.  Please read our “Know Before You Go” for more information.
URL:https://hudsonvalleycoldpressedoils.com/event/cut-your-own-sunflowers-with-music-sunset-night-13/
END:VEVENT
BEGIN:VEVENT
DTSTART;TZID=UTC:20240726T100000
DTEND;TZID=UTC:20240726T200000
DTSTAMP:20260423T215742
CREATED:20240710T123457Z
LAST-MODIFIED:20240710T123457Z
UID:3204-1721988000-1722024000@hudsonvalleycoldpressedoils.com
SUMMARY:Cut Your Own Sunflowers with Music & Sunset Night
DESCRIPTION:Friday\, July 26th   10:00am- Sunset (pending flowers) \nWe will be open from 10am-sunset if the sunflowers are ready for picking. If the fields are not ready yet\, we will still open the gates at 5:00pm for live music starting at 5:30pm. Full concessions available for purchase as well as local beers\, wines & hard cider. Admission is free until 5pm when we will have live music with the sound of She’s My Ex until 8:00pm. They are an acoustic duo featuring a mix of folk\, country\, and pop music. Admission will be $5.00 PER CAR after 5pm.  Please read our “Know Before You Go” for more information.
URL:https://hudsonvalleycoldpressedoils.com/event/cut-your-own-sunflowers-with-music-sunset-night-12/
END:VEVENT
BEGIN:VEVENT
DTSTART;TZID=UTC:20240609T110000
DTEND;TZID=UTC:20240609T150000
DTSTAMP:20260423T215742
CREATED:20240605T132329Z
LAST-MODIFIED:20240605T132329Z
UID:3178-1717930800-1717945200@hudsonvalleycoldpressedoils.com
SUMMARY:Mount Kisco Farmers Market
DESCRIPTION:The Mt. Kisco Farmer’s Market is proud to continue our fun and exciting community farmer’s market to Mt. Kisco. The market will be focused on engaging the community around local food\, health and wellness\, and the arts. Each week in addition to the local organic farmers\, the market will feature a wide variety of exciting vendors. There will be a community corner\, food demonstrations\, live music\, kids activities\, nature walks\, story time\, and the “Open Mic Stage” where you can sign up to perform!
URL:https://hudsonvalleycoldpressedoils.com/event/mount-kisco-farmers-market/
LOCATION:Kisco train station\, Located at the Mt. Kisco train station\, S. Moger parking lot
END:VEVENT
BEGIN:VEVENT
DTSTART;TZID=UTC:20240608T090000
DTEND;TZID=UTC:20240608T140000
DTSTAMP:20260423T215742
CREATED:20240605T130724Z
LAST-MODIFIED:20240605T130724Z
UID:3173-1717837200-1717855200@hudsonvalleycoldpressedoils.com
SUMMARY:North Salem Farmers Market
DESCRIPTION:Join us and an incredible group of over 25 vendors in the historic hamlet of Croton Falls\, NY. Ample ADA parking and public transportation via Metro-North. Come support the farmers and makers who bring us the highest quality food\, making the summer months ahead abundant and delicious. Well behaved and leashed dog friends welcome 🙂
URL:https://hudsonvalleycoldpressedoils.com/event/north-salem-farmers-market/
LOCATION:Address\, Back Street\, Croton Falls\, NY\, 10526\, United States
END:VEVENT
BEGIN:VEVENT
DTSTART;TZID=UTC:20231124T100000
DTEND;TZID=UTC:20231126T170000
DTSTAMP:20260423T215742
CREATED:20230508T113353Z
LAST-MODIFIED:20230508T113353Z
UID:2995-1700820000-1701018000@hudsonvalleycoldpressedoils.com
SUMMARY:Locust Grove Holiday Artisan Market
DESCRIPTION:Every year the long honored tradition of celebrating Thanksgiving with family and friends is alive and well in the Hudson Valley. People of all ages can start their holiday shopping\, sharing the joy and gratitude of the season with their loved ones. The HVArtMarket features local artisans and supports creative arts in the Hudson Valley. Because the marketplace is an alternative to Big Box Stores\, every penny spent at the HVArtMarket supports neighbors\, friends and family members who are trying to support themselves and their art. If you’re looking for something to do with your Thanksgiving guests\, give them a true feeling for the beauty of the area. Come to meet the local vendors that make up this year’s HVArtMarket. For more information visit lgny.org
URL:https://hudsonvalleycoldpressedoils.com/event/locust-grove-holiday-artisan-market/
LOCATION:Locust Grove Estate\, Locust Grove Estate\, 2683 South Rd\, Poughkeepsie\, NY\, 12601\, United States
END:VEVENT
BEGIN:VEVENT
DTSTART;TZID=UTC:20231021T090000
DTEND;TZID=UTC:20231022T170000
DTSTAMP:20260423T215742
CREATED:20230508T113224Z
LAST-MODIFIED:20230508T113224Z
UID:2993-1697878800-1697994000@hudsonvalleycoldpressedoils.com
SUMMARY:Sheep & Wool
DESCRIPTION:The Northeast’s thriving sheep industry is showcased and celebrated each year in this famous festival that draws 30\,000 visitors from across the country to the lovely village of Rhinebeck. And there’s more here than sheep\, llamas\, alpacas\, and their luscious fibers. Your day will include 300 fiber artists and crafts galore\, amazing sheep herding demonstrations and sheepdog trials\, a petting zoo\, and other children’s activities. Check out their Specialty Vendors in Building E. This is a ticketed event. Visit sheepandwool.com for more infomation!
URL:https://hudsonvalleycoldpressedoils.com/event/sheep-wool/
LOCATION:Dutchess County Fairgrounds\, Dutchess County Fairgrounds\, Rhinebeck\, NY\, 12572\, United States
END:VEVENT
BEGIN:VEVENT
DTSTART;TZID=UTC:20230930T100000
DTEND;TZID=UTC:20231001T180000
DTSTAMP:20260423T215742
CREATED:20230508T113039Z
LAST-MODIFIED:20230508T113039Z
UID:2991-1696068000-1696183200@hudsonvalleycoldpressedoils.com
SUMMARY:Hudson Valley Garlic Festival
DESCRIPTION:In the tradition in which it was born\, the Hudson Valley Garlic Festival™ continues to be a fun celebration of the harvest of what garlic aficionados lovingly refer to as the Stinking Rose. To find out more visit\, hvgf.org
URL:https://hudsonvalleycoldpressedoils.com/event/hudson-valley-garlic-festival/
LOCATION:Kiwanis Club of Saugerties\, Cantine Veterans Memorial Complex\, Washington Avenue Extension\, Saugerties\, NY 12477\, new york\, NY\, 12477\, United States
END:VEVENT
BEGIN:VEVENT
DTSTART;TZID=UTC:20230903T170000
DTEND;TZID=UTC:20230903T200000
DTSTAMP:20260423T215742
CREATED:20230823T183505Z
LAST-MODIFIED:20230823T183505Z
UID:3155-1693760400-1693771200@hudsonvalleycoldpressedoils.com
SUMMARY:Music & Sunset Night
DESCRIPTION:We will be open from 5:00pm-sunset. Full concessions available for purchase as well as local beers\, wines & hard cider. Our pop up shop will be open as well as our fields for pictures. Listen to the sounds of She’s My Ex starting at 5:30pm until 8:00pm. They are an acoustic duo featuring a mix of folk\, country\, pop music. Admission will be $5.00 PER CAR.
URL:https://hudsonvalleycoldpressedoils.com/event/music-sunset-night-6/
END:VEVENT
BEGIN:VEVENT
DTSTART;TZID=UTC:20230902T170000
DTEND;TZID=UTC:20230902T200000
DTSTAMP:20260423T215742
CREATED:20230823T183420Z
LAST-MODIFIED:20230823T183420Z
UID:3153-1693674000-1693684800@hudsonvalleycoldpressedoils.com
SUMMARY:Music & Sunset Night
DESCRIPTION:We will be open from 5:00pm-sunset. Full concessions available for purchase as well as local beers\, wines & hard cider. Our pop up shop will be open as well as our fields for pictures. Listen to the sounds of Willow Blue starting at 5:30pm until 8:00pm. They are a blues\, rock and soul duo. Admission will be $5.00 PER CAR.
URL:https://hudsonvalleycoldpressedoils.com/event/music-sunset-night-5/
END:VEVENT
BEGIN:VEVENT
DTSTART;TZID=UTC:20230901T170000
DTEND;TZID=UTC:20230901T200000
DTSTAMP:20260423T215742
CREATED:20230823T183334Z
LAST-MODIFIED:20230823T183334Z
UID:3151-1693587600-1693598400@hudsonvalleycoldpressedoils.com
SUMMARY:Music & Sunset Night
DESCRIPTION:We will be open from 5:00pm-sunset. Full concessions available for purchase as well as local beers\, wines & hard cider. Our pop up shop will be open as well as our fields for pictures. Listen to the sounds of Junction starting at 5:30pm until 8:00pm. They are a classic rock acoustic duo. Admission will be $5.00 PER CAR.
URL:https://hudsonvalleycoldpressedoils.com/event/music-sunset-night-4/
END:VEVENT
BEGIN:VEVENT
DTSTART;VALUE=DATE:20230831
DTEND;VALUE=DATE:20230901
DTSTAMP:20260423T215742
CREATED:20230823T183255Z
LAST-MODIFIED:20230823T183255Z
UID:3149-1693440000-1693526399@hudsonvalleycoldpressedoils.com
SUMMARY:Closed
DESCRIPTION:
URL:https://hudsonvalleycoldpressedoils.com/event/closed-5/
END:VEVENT
BEGIN:VEVENT
DTSTART;VALUE=DATE:20230830
DTEND;VALUE=DATE:20230831
DTSTAMP:20260423T215742
CREATED:20230823T183241Z
LAST-MODIFIED:20230823T183241Z
UID:3147-1693353600-1693439999@hudsonvalleycoldpressedoils.com
SUMMARY:Closed
DESCRIPTION:
URL:https://hudsonvalleycoldpressedoils.com/event/closed-4/
END:VEVENT
BEGIN:VEVENT
DTSTART;VALUE=DATE:20230829
DTEND;VALUE=DATE:20230830
DTSTAMP:20260423T215742
CREATED:20230823T183208Z
LAST-MODIFIED:20230823T183208Z
UID:3145-1693267200-1693353599@hudsonvalleycoldpressedoils.com
SUMMARY:Closed
DESCRIPTION:
URL:https://hudsonvalleycoldpressedoils.com/event/closed-3/
END:VEVENT
BEGIN:VEVENT
DTSTART;VALUE=DATE:20230828
DTEND;VALUE=DATE:20230829
DTSTAMP:20260423T215742
CREATED:20230823T183129Z
LAST-MODIFIED:20230823T183129Z
UID:3143-1693180800-1693267199@hudsonvalleycoldpressedoils.com
SUMMARY:Closed
DESCRIPTION:
URL:https://hudsonvalleycoldpressedoils.com/event/closed-2/
END:VEVENT
BEGIN:VEVENT
DTSTART;TZID=UTC:20230827T170000
DTEND;TZID=UTC:20230827T200000
DTSTAMP:20260423T215742
CREATED:20230823T183104Z
LAST-MODIFIED:20230823T183104Z
UID:3141-1693155600-1693166400@hudsonvalleycoldpressedoils.com
SUMMARY:Music & Sunset Night
DESCRIPTION:We will be open from 5:00pm-sunset. Full concessions available for purchase as well as local beers\, wines & hard cider. Our pop up shop will be open as well as our fields for pictures. Listen to the sounds of Joe & Caroline starting at 5:30pm until 8:00pm. Their love of music spans decades – from choral to country. Come and listen to this acoustic guitar and vocal duo and their unique arrangements of rock\, bluegrass and country tunes. Admission will be $5.00 PER CAR.
URL:https://hudsonvalleycoldpressedoils.com/event/music-sunset-night-3/
END:VEVENT
BEGIN:VEVENT
DTSTART;TZID=UTC:20230826T170000
DTEND;TZID=UTC:20230826T200000
DTSTAMP:20260423T215742
CREATED:20230823T182904Z
LAST-MODIFIED:20230823T182945Z
UID:3138-1693069200-1693080000@hudsonvalleycoldpressedoils.com
SUMMARY:Music & Sunset Night
DESCRIPTION:We will be open from 5:00pm-sunset. Full concessions available for purchase as well as local beers\, wines & hard cider. Our pop up shop will be open as well as our fields for pictures. Listen to the sounds of Junction starting at 5:30pm until 8:00pm. They are a classic rock acoustic duo. Admission will be $5.00 PER CAR.
URL:https://hudsonvalleycoldpressedoils.com/event/music-sunset-night-2/
END:VEVENT
BEGIN:VEVENT
DTSTART;TZID=UTC:20230825T170000
DTEND;TZID=UTC:20230825T200000
DTSTAMP:20260423T215742
CREATED:20230823T182827Z
LAST-MODIFIED:20230823T183019Z
UID:3136-1692982800-1692993600@hudsonvalleycoldpressedoils.com
SUMMARY:Music & Sunset Night
DESCRIPTION:We will be open from 5:00pm-sunset. Full concessions available for purchase as well as local beers\, wines & hard cider. Our pop up shop will be open as well as our fields for pictures. Listen to the sounds of She’s My Ex starting at 5:30pm until 8:00pm. They are an acoustic duo featuring a mix of folk\, country\, pop music. Admission will be $5.00 PER CAR.
URL:https://hudsonvalleycoldpressedoils.com/event/music-sunset-night/
END:VEVENT
BEGIN:VEVENT
DTSTART;VALUE=DATE:20230824
DTEND;VALUE=DATE:20230825
DTSTAMP:20260423T215742
CREATED:20230823T182743Z
LAST-MODIFIED:20230823T182743Z
UID:3134-1692835200-1692921599@hudsonvalleycoldpressedoils.com
SUMMARY:Closed
DESCRIPTION:
URL:https://hudsonvalleycoldpressedoils.com/event/closed/
END:VEVENT
BEGIN:VEVENT
DTSTART;TZID=UTC:20230823T100000
DTEND;TZID=UTC:20230823T170000
DTSTAMP:20260423T215742
CREATED:20230823T182437Z
LAST-MODIFIED:20230823T182437Z
UID:3132-1692784800-1692810000@hudsonvalleycoldpressedoils.com
SUMMARY:Cut Your Own Sunflowers-Last Day
DESCRIPTION:Last day for Sunflower Cutting. Free admission all day. Lite concessions available for purchase. Please read our “Know Before You Go” for more information.
URL:https://hudsonvalleycoldpressedoils.com/event/cut-your-own-sunflowers-last-day/
END:VEVENT
BEGIN:VEVENT
DTSTART;TZID=UTC:20230822T100000
DTEND;TZID=UTC:20230822T170000
DTSTAMP:20260423T215742
CREATED:20230726T151921Z
LAST-MODIFIED:20230726T151921Z
UID:3101-1692698400-1692723600@hudsonvalleycoldpressedoils.com
SUMMARY:Cut Your Own Sunflowers
DESCRIPTION:Free admission all day. Lite concessions available for purchase. Please read our “Know Before You Go” for more information.
URL:https://hudsonvalleycoldpressedoils.com/event/cut-your-own-sunflowers-8/
END:VEVENT
BEGIN:VEVENT
DTSTART;TZID=UTC:20230821T100000
DTEND;TZID=UTC:20230821T170000
DTSTAMP:20260423T215742
CREATED:20230726T151845Z
LAST-MODIFIED:20230726T151855Z
UID:3099-1692612000-1692637200@hudsonvalleycoldpressedoils.com
SUMMARY:Cut Your Own Sunflowers
DESCRIPTION:Free admission all day. Lite concessions available for purchase. Please read our “Know Before You Go” for more information.
URL:https://hudsonvalleycoldpressedoils.com/event/cut-your-own-sunflowers-7/
END:VEVENT
END:VCALENDAR