BEGIN:VCALENDAR
VERSION:2.0
PRODID:-//Hudson Valley Cold Pressed Oils - ECPv6.15.1.1//NONSGML v1.0//EN
CALSCALE:GREGORIAN
METHOD:PUBLISH
X-ORIGINAL-URL:https://hudsonvalleycoldpressedoils.com
X-WR-CALDESC:Events for Hudson Valley Cold Pressed Oils
REFRESH-INTERVAL;VALUE=DURATION:PT1H
X-Robots-Tag:noindex
X-PUBLISHED-TTL:PT1H
BEGIN:VTIMEZONE
TZID:UTC
BEGIN:STANDARD
TZOFFSETFROM:+0000
TZOFFSETTO:+0000
TZNAME:UTC
DTSTART:20230101T000000
END:STANDARD
END:VTIMEZONE
BEGIN:VEVENT
DTSTART;TZID=UTC:20230826T170000
DTEND;TZID=UTC:20230826T200000
DTSTAMP:20260424T012333
CREATED:20230823T182904Z
LAST-MODIFIED:20230823T182945Z
UID:3138-1693069200-1693080000@hudsonvalleycoldpressedoils.com
SUMMARY:Music & Sunset Night
DESCRIPTION:We will be open from 5:00pm-sunset. Full concessions available for purchase as well as local beers\, wines & hard cider. Our pop up shop will be open as well as our fields for pictures. Listen to the sounds of Junction starting at 5:30pm until 8:00pm. They are a classic rock acoustic duo. Admission will be $5.00 PER CAR.
URL:https://hudsonvalleycoldpressedoils.com/event/music-sunset-night-2/
LOCATION:NY
END:VEVENT
BEGIN:VEVENT
DTSTART;TZID=UTC:20230825T170000
DTEND;TZID=UTC:20230825T200000
DTSTAMP:20260424T012333
CREATED:20230823T182827Z
LAST-MODIFIED:20230823T183019Z
UID:3136-1692982800-1692993600@hudsonvalleycoldpressedoils.com
SUMMARY:Music & Sunset Night
DESCRIPTION:We will be open from 5:00pm-sunset. Full concessions available for purchase as well as local beers\, wines & hard cider. Our pop up shop will be open as well as our fields for pictures. Listen to the sounds of She’s My Ex starting at 5:30pm until 8:00pm. They are an acoustic duo featuring a mix of folk\, country\, pop music. Admission will be $5.00 PER CAR.
URL:https://hudsonvalleycoldpressedoils.com/event/music-sunset-night/
LOCATION:NY
END:VEVENT
BEGIN:VEVENT
DTSTART;VALUE=DATE:20230824
DTEND;VALUE=DATE:20230825
DTSTAMP:20260424T012333
CREATED:20230823T182743Z
LAST-MODIFIED:20230823T182743Z
UID:3134-1692835200-1692921599@hudsonvalleycoldpressedoils.com
SUMMARY:Closed
DESCRIPTION:
URL:https://hudsonvalleycoldpressedoils.com/event/closed/
LOCATION:NY
END:VEVENT
BEGIN:VEVENT
DTSTART;TZID=UTC:20230823T100000
DTEND;TZID=UTC:20230823T170000
DTSTAMP:20260424T012333
CREATED:20230823T182437Z
LAST-MODIFIED:20230823T182437Z
UID:3132-1692784800-1692810000@hudsonvalleycoldpressedoils.com
SUMMARY:Cut Your Own Sunflowers-Last Day
DESCRIPTION:Last day for Sunflower Cutting. Free admission all day. Lite concessions available for purchase. Please read our “Know Before You Go” for more information.
URL:https://hudsonvalleycoldpressedoils.com/event/cut-your-own-sunflowers-last-day/
LOCATION:NY
END:VEVENT
BEGIN:VEVENT
DTSTART;TZID=UTC:20230822T100000
DTEND;TZID=UTC:20230822T170000
DTSTAMP:20260424T012333
CREATED:20230726T151921Z
LAST-MODIFIED:20230726T151921Z
UID:3101-1692698400-1692723600@hudsonvalleycoldpressedoils.com
SUMMARY:Cut Your Own Sunflowers
DESCRIPTION:Free admission all day. Lite concessions available for purchase. Please read our “Know Before You Go” for more information.
URL:https://hudsonvalleycoldpressedoils.com/event/cut-your-own-sunflowers-8/
LOCATION:NY
END:VEVENT
BEGIN:VEVENT
DTSTART;TZID=UTC:20230821T100000
DTEND;TZID=UTC:20230821T170000
DTSTAMP:20260424T012333
CREATED:20230726T151845Z
LAST-MODIFIED:20230726T151855Z
UID:3099-1692612000-1692637200@hudsonvalleycoldpressedoils.com
SUMMARY:Cut Your Own Sunflowers
DESCRIPTION:Free admission all day. Lite concessions available for purchase. Please read our “Know Before You Go” for more information.
URL:https://hudsonvalleycoldpressedoils.com/event/cut-your-own-sunflowers-7/
LOCATION:NY
END:VEVENT
BEGIN:VEVENT
DTSTART;TZID=UTC:20230820T100000
DTEND;TZID=UTC:20230820T200000
DTSTAMP:20260424T012333
CREATED:20230726T151813Z
LAST-MODIFIED:20230726T151813Z
UID:3097-1692525600-1692561600@hudsonvalleycoldpressedoils.com
SUMMARY:Cut Your Own Sunflowers with Music & Sunset Night
DESCRIPTION:We will be open from 10am-sunset. Full concessions available for purchase as well as local beers\, wines & hard cider. Admission is free until 5pm when we will have live music with the sound of She’s My Ex starting at 5:30pm until 8:00pm. They are an acoustic duo featuring a mix of folk\, country\, pop music. Admission will be $5.00 PER CAR after 5pm. Please read our “Know Before You Go” for more information.
URL:https://hudsonvalleycoldpressedoils.com/event/cut-your-own-sunflowers-with-music-sunset-night-11/
LOCATION:NY
END:VEVENT
BEGIN:VEVENT
DTSTART;TZID=UTC:20230819T100000
DTEND;TZID=UTC:20230819T200000
DTSTAMP:20260424T012333
CREATED:20230726T151739Z
LAST-MODIFIED:20230726T151739Z
UID:3095-1692439200-1692475200@hudsonvalleycoldpressedoils.com
SUMMARY:Cut Your Own Sunflowers with Music & Sunset Night
DESCRIPTION:We will be open from 10am-sunset. Full concessions available for purchase as well as local beers\, wines & hard cider. Admission is free until 5pm when we will have live music with the sound of Joe & Caroline starting at 5:30pm until 8:00pm. Their love of music spans decades – from choral to country and everything in between. Come and listen to this acoustic guitar and vocal duo and their unique arrangements of rock\, bluegrass\, and country tunes. Admission will be $5.00 PER CAR after 5pm.  Please read our “Know Before You Go” for more information.
URL:https://hudsonvalleycoldpressedoils.com/event/cut-your-own-sunflowers-with-music-sunset-night-10/
LOCATION:NY
END:VEVENT
BEGIN:VEVENT
DTSTART;TZID=UTC:20230818T100000
DTEND;TZID=UTC:20230818T200000
DTSTAMP:20260424T012333
CREATED:20230726T143712Z
LAST-MODIFIED:20230726T143712Z
UID:3093-1692352800-1692388800@hudsonvalleycoldpressedoils.com
SUMMARY:Cut Your Own Sunflowers with Music & Sunset Night
DESCRIPTION:We will be open from 10am-sunset. Full concessions available for purchase as well as local beers\, wines & hard cider. Admission is free until 5pm when we will have live music with the sound of Christian Anthony Band starting at 5:30pm until 8:00pm. They are an eclectic duo that plays timeless hits of the 60’s\, 70’s 80’s and beyond. Admission will be $5.00 PER CAR after 5pm.  Please read our “Know Before You Go” for more information.
URL:https://hudsonvalleycoldpressedoils.com/event/cut-your-own-sunflowers-with-music-sunset-night-9/
LOCATION:NY
END:VEVENT
BEGIN:VEVENT
DTSTART;TZID=UTC:20230817T100000
DTEND;TZID=UTC:20230817T200000
DTSTAMP:20260424T012333
CREATED:20230726T143633Z
LAST-MODIFIED:20230726T143633Z
UID:3091-1692266400-1692302400@hudsonvalleycoldpressedoils.com
SUMMARY:Cut Your Own Sunflowers with Music & Sunset Night
DESCRIPTION:We will be open from 10am-sunset. Full concessions available for purchase as well as local beers\, wines & hard cider. Admission is free until 5pm when we will have live music with the sound of Junction starting at 5:30pm until 8:00pm. They are a classic rock acoustic duo. Admission will be $5.00 PER CAR after 5pm.  Please read our “Know Before You Go” for more information.
URL:https://hudsonvalleycoldpressedoils.com/event/cut-your-own-sunflowers-with-music-sunset-night-8/
LOCATION:NY
END:VEVENT
BEGIN:VEVENT
DTSTART;TZID=UTC:20230816T100000
DTEND;TZID=UTC:20230816T170000
DTSTAMP:20260424T012333
CREATED:20230726T143601Z
LAST-MODIFIED:20230726T143601Z
UID:3089-1692180000-1692205200@hudsonvalleycoldpressedoils.com
SUMMARY:Cut Your Own Sunflowers
DESCRIPTION:Free admission all day. Lite concessions available for purchase. Please read our “Know Before You Go” for more information.
URL:https://hudsonvalleycoldpressedoils.com/event/cut-your-own-sunflowers-6/
LOCATION:NY
END:VEVENT
BEGIN:VEVENT
DTSTART;TZID=UTC:20230815T100000
DTEND;TZID=UTC:20230815T170000
DTSTAMP:20260424T012333
CREATED:20230726T143532Z
LAST-MODIFIED:20230726T143532Z
UID:3087-1692093600-1692118800@hudsonvalleycoldpressedoils.com
SUMMARY:Cut Your Own Sunflowers
DESCRIPTION:Free admission all day. Lite concessions available for purchase. Please read our “Know Before You Go” for more information.
URL:https://hudsonvalleycoldpressedoils.com/event/cut-your-own-sunflowers-5/
LOCATION:NY
END:VEVENT
BEGIN:VEVENT
DTSTART;TZID=UTC:20230814T100000
DTEND;TZID=UTC:20230814T170000
DTSTAMP:20260424T012333
CREATED:20230726T143459Z
LAST-MODIFIED:20230726T143459Z
UID:3085-1692007200-1692032400@hudsonvalleycoldpressedoils.com
SUMMARY:Cut Your Own Sunflowers
DESCRIPTION:Free admission all day. Lite concessions available for purchase. Please read our “Know Before You Go” for more information.
URL:https://hudsonvalleycoldpressedoils.com/event/cut-your-own-sunflowers-4/
LOCATION:NY
END:VEVENT
BEGIN:VEVENT
DTSTART;TZID=UTC:20230813T100000
DTEND;TZID=UTC:20230813T200000
DTSTAMP:20260424T012333
CREATED:20230726T143432Z
LAST-MODIFIED:20230726T143432Z
UID:3083-1691920800-1691956800@hudsonvalleycoldpressedoils.com
SUMMARY:Cut Your Own Sunflowers with Music & Sunset Night
DESCRIPTION:We will be open from 10am-sunset. Full concessions available for purchase as well as local beers\, wines & hard cider Admission is free until 5pm when we will have live music with the sound of The Acoustic Bad Boys starting at 5:30pm until 8:00pm. They are a rock acoustic duo. Admission will be $5.00 PER CAR after 5pm.  Please read our “Know Before You Go” for more information.
URL:https://hudsonvalleycoldpressedoils.com/event/cut-your-own-sunflowers-with-music-sunset-night-7/
LOCATION:NY
END:VEVENT
BEGIN:VEVENT
DTSTART;TZID=UTC:20230812T100000
DTEND;TZID=UTC:20230812T200000
DTSTAMP:20260424T012333
CREATED:20230726T143403Z
LAST-MODIFIED:20230726T143403Z
UID:3081-1691834400-1691870400@hudsonvalleycoldpressedoils.com
SUMMARY:Cut Your Own Sunflowers with Music & Sunset Night
DESCRIPTION:We will be open from 10am-sunset. Full concessions available for purchase as well as local beers\, wines & hard cider Admission is free until 5pm when we will have live music with the sound of Guava Lava starting at 5:30pm until 8:00pm. Playing classic rock\, Top 40\, Reggae & country. Admission will be $5.00 PER CAR after 5pm.  Please read our “Know Before You Go” for more information.
URL:https://hudsonvalleycoldpressedoils.com/event/cut-your-own-sunflowers-with-music-sunset-night-6/
LOCATION:NY
END:VEVENT
BEGIN:VEVENT
DTSTART;TZID=UTC:20230811T100000
DTEND;TZID=UTC:20230811T200000
DTSTAMP:20260424T012333
CREATED:20230726T143320Z
LAST-MODIFIED:20230726T143320Z
UID:3079-1691748000-1691784000@hudsonvalleycoldpressedoils.com
SUMMARY:Cut Your Own Sunflowers with Music & Sunset Night
DESCRIPTION:We will be open from 10am-sunset. Full concessions available for purchase as well as local beers\, wines & hard cider. Admission is free until 5pm when we will have live music with the sound of Matt & Michelle starting at 5:30pm until 8:00pm. They are just out to bring some fun to your day by playing songs that you know and love and that you can sing along with. You’ll hear pop\, rock\, folk\, oldies\, blues\, and country.  “Acoustic music with a beat\,” is what they call it. Admission will be $5.00 PER CAR after 5pm.  Please read our “Know Before You Go” for more information.
URL:https://hudsonvalleycoldpressedoils.com/event/cut-your-own-sunflowers-with-music-sunset-night-5/
LOCATION:NY
END:VEVENT
BEGIN:VEVENT
DTSTART;TZID=UTC:20230810T100000
DTEND;TZID=UTC:20230810T170000
DTSTAMP:20260424T012333
CREATED:20230726T143235Z
LAST-MODIFIED:20230726T143235Z
UID:3077-1691661600-1691686800@hudsonvalleycoldpressedoils.com
SUMMARY:Cut Your Own Sunflowers with Music & Sunset Night
DESCRIPTION:We will be open from 10am-sunset. Full concessions available for purchase as well as local beers\, wines & hard cider Admission is free until 5pm when we will have live music with the sound of Junction starting at 5:30pm until 8:00pm. They are a classic rock acoustic duo. Admission will be $5.00 PER CAR after 5pm.  Please read our “Know Before You Go” for more information.
URL:https://hudsonvalleycoldpressedoils.com/event/cut-your-own-sunflowers-with-music-sunset-night-4/
LOCATION:NY
END:VEVENT
BEGIN:VEVENT
DTSTART;TZID=UTC:20230809T100000
DTEND;TZID=UTC:20230809T170000
DTSTAMP:20260424T012333
CREATED:20230726T143206Z
LAST-MODIFIED:20230726T143206Z
UID:3075-1691575200-1691600400@hudsonvalleycoldpressedoils.com
SUMMARY:Cut Your Own Sunflowers
DESCRIPTION:Free admission all day. Lite concessions available for purchase. Please read our “Know Before You Go” for more information.
URL:https://hudsonvalleycoldpressedoils.com/event/cut-your-own-sunflowers-3/
LOCATION:NY
END:VEVENT
BEGIN:VEVENT
DTSTART;TZID=UTC:20230807T100000
DTEND;TZID=UTC:20230807T170000
DTSTAMP:20260424T012333
CREATED:20230726T143055Z
LAST-MODIFIED:20230726T143055Z
UID:3071-1691402400-1691427600@hudsonvalleycoldpressedoils.com
SUMMARY:Cut Your Own Sunflowers
DESCRIPTION:Free admission all day. Lite concessions available for purchase. Please read our “Know Before You Go” for more information.
URL:https://hudsonvalleycoldpressedoils.com/event/cut-your-own-sunflowers/
LOCATION:NY
END:VEVENT
BEGIN:VEVENT
DTSTART;TZID=UTC:20230806T100000
DTEND;TZID=UTC:20230806T200000
DTSTAMP:20260424T012333
CREATED:20230726T143022Z
LAST-MODIFIED:20230726T143022Z
UID:3069-1691316000-1691352000@hudsonvalleycoldpressedoils.com
SUMMARY:Cut Your Own Sunflowers with Music & Sunset Night
DESCRIPTION:We will be open from 10am-sunset. Full concessions available for purchase as well as local beers\, wines & hard cider. Admission is free until 5pm when we will have live music with the sound of Junction starting at 5:30pm until 8:00pm. They are a classic rock acoustic duo. Admission will be $5.00 PER CAR after 5pm. Please read our “Know Before You Go” for more information.
URL:https://hudsonvalleycoldpressedoils.com/event/cut-your-own-sunflowers-with-music-sunset-night-3/
LOCATION:NY
END:VEVENT
BEGIN:VEVENT
DTSTART;TZID=UTC:20230805T100000
DTEND;TZID=UTC:20230805T200000
DTSTAMP:20260424T012333
CREATED:20230726T142259Z
LAST-MODIFIED:20230726T142259Z
UID:3066-1691229600-1691265600@hudsonvalleycoldpressedoils.com
SUMMARY:Cut Your Own Sunflowers with Music & Sunset Night
DESCRIPTION:We will be open from 10am-sunset. Full concessions available for purchase as well as local beers\, wines & hard cider. Admission is free until 5pm when we will have live music with the sound of Willow Blue starting at 5:30pm until 8:00pm. They are a blues\, rock and soul duo. Admission will be $5.00 PER CAR after 5pm. Please read our “Know Before You Go” for more information.
URL:https://hudsonvalleycoldpressedoils.com/event/cut-your-own-sunflowers-with-music-sunset-night-2/
LOCATION:NY
END:VEVENT
BEGIN:VEVENT
DTSTART;TZID=UTC:20230804T100000
DTEND;TZID=UTC:20230804T200000
DTSTAMP:20260424T012333
CREATED:20230726T142027Z
LAST-MODIFIED:20230726T142210Z
UID:3064-1691143200-1691179200@hudsonvalleycoldpressedoils.com
SUMMARY:Cut Your Own Sunflowers with Music & Sunset Night
DESCRIPTION:We will be open from 10am-sunset. Full concessions available for purchase as well as local beers\, wines & hard cider Admission is free until 5pm when we will have live music with the sound of She’s My Ex starting at 5:30pm until 8:00pm. They are an acoustic duo featuring a mix of folk\, country\, pop music. Admission will be $5.00 PER CAR after 5pm. Please read our “Know Before You Go” for more information.
URL:https://hudsonvalleycoldpressedoils.com/event/cut-your-own-sunflowers-with-music-sunset-night/
LOCATION:NY
END:VEVENT
BEGIN:VEVENT
DTSTART;TZID=UTC:20230708T083000
DTEND;TZID=UTC:20230708T123000
DTSTAMP:20260424T012333
CREATED:20230508T112755Z
LAST-MODIFIED:20230707T175929Z
UID:2987-1688805000-1688819400@hudsonvalleycoldpressedoils.com
SUMMARY:CANCELED: Kinderhook Farmers Market
DESCRIPTION:Every Saturday from May to October\, Kinderhook farmers market has local foods and family fun! We will be doing a pop up on the 27 of May\, so come on out and support local! For more information visit Kinderhookfarmersmarket.com
URL:https://hudsonvalleycoldpressedoils.com/event/kinderhook-farmers-market-2/
LOCATION:On the Village Green in Kinderhook\, NY\, 2724 route 21 Kinderhook\, NY 12106\, new york\, NY\, 12106\, United States
END:VEVENT
BEGIN:VEVENT
DTSTART;TZID=UTC:20230707T130000
DTEND;TZID=UTC:20230707T170000
DTSTAMP:20260424T012333
CREATED:20230508T112657Z
LAST-MODIFIED:20230508T112657Z
UID:2985-1688734800-1688749200@hudsonvalleycoldpressedoils.com
SUMMARY:Taste NY Todd Hill - Farmers Market
DESCRIPTION:This FRIDAY farmers market is located off the Taconic featuring NY grown & produced vendors. We will carry all our products including our hummus & baked breads. Visit tastenytoddhill.com to find out more!
URL:https://hudsonvalleycoldpressedoils.com/event/taste-ny-todd-hill-farmers-market/
LOCATION:Taconic State Parkway\, Taconic State Parkway\, Lagrangeville\, NY\, 12540\, United States
END:VEVENT
BEGIN:VEVENT
DTSTART;TZID=UTC:20230625T100000
DTEND;TZID=UTC:20230627T150000
DTSTAMP:20260424T012333
CREATED:20230508T112416Z
LAST-MODIFIED:20230508T112416Z
UID:2983-1687687200-1687878000@hudsonvalleycoldpressedoils.com
SUMMARY:Fancy Food Show
DESCRIPTION:Get ready to see\, sample and discover at the 67th Summer Fancy Food Show! The Summer Fancy Food Show is the largest specialty food industry event in North America. Makers\, manufacturers\, buyers\, brokers\, distributors\, and other industry professionals from around the globe rely on the Summer Fancy Food Show for product discovery\, networking\, and business opportunities. Note: The Fancy Food Shows are trade only events. They are not open to the public. Visit specialtyfood.com to find out more!
URL:https://hudsonvalleycoldpressedoils.com/event/fancy-food-show/
LOCATION:Specialty Food Association\, Javits Center\, 655 W 34th street New York\, NY 10001\, new york\, 10001\, United States
END:VEVENT
BEGIN:VEVENT
DTSTART;TZID=UTC:20230610T110000
DTEND;TZID=UTC:20230611T170000
DTSTAMP:20260424T012333
CREATED:20230508T112307Z
LAST-MODIFIED:20230508T112307Z
UID:2981-1686394800-1686502800@hudsonvalleycoldpressedoils.com
SUMMARY:Modern Makers Market
DESCRIPTION:Join us with 50+ artisans and artists. There will be local musicians\, food trucks\, raffles and more! \nSome local artisans include: woodworkers\, glassworkers\, candle makers\, soap makers\, jewelers\, potters\, artists\, painters\, spirits\, craft beer\, textiles\, mixed media\, leather\, foods\, & more. To find out more information\, visit http://hopsonthehudson.com
URL:https://hudsonvalleycoldpressedoils.com/event/modern-makers-market/
LOCATION:Hops on the Hudson\, 1 Chestnut Street Cold Spring\, NY 10516\, new york\, NY\, 10516\, United States
END:VEVENT
BEGIN:VEVENT
DTSTART;TZID=UTC:20230527T083000
DTEND;TZID=UTC:20230527T123000
DTSTAMP:20260424T012333
CREATED:20230508T112044Z
LAST-MODIFIED:20230508T112044Z
UID:2978-1685176200-1685190600@hudsonvalleycoldpressedoils.com
SUMMARY:Kinderhook Farmers Market
DESCRIPTION:Every Saturday from May to October\, Kinderhook farmers market has local foods and family fun! We will be doing a pop up on the 27 of May\, so come on out and support local! For more information visit Kinderhookfarmersmarket.com
URL:https://hudsonvalleycoldpressedoils.com/event/kinderhook-farmers-market/
LOCATION:On the Village Green in Kinderhook\, NY\, 2724 route 21 Kinderhook\, NY 12106\, new york\, NY\, 12106\, United States
END:VEVENT
BEGIN:VEVENT
DTSTART;TZID=UTC:20230526T010000
DTEND;TZID=UTC:20230526T170000
DTSTAMP:20260424T012333
CREATED:20230508T111934Z
LAST-MODIFIED:20230508T112132Z
UID:2976-1685062800-1685120400@hudsonvalleycoldpressedoils.com
SUMMARY:Taste Of New York Farmers Market
DESCRIPTION:Come join us to find the best local fruits and veggies\, gifts\, specialty foods\, and distilled spirits. This FRIDAY farmers market is located off the Taconic featuring NY grown & produced vendors. We will carry all our products including our hummus & baked breads. Visit tastenytoddhill.com to find out more!
URL:https://hudsonvalleycoldpressedoils.com/event/taste-of-new-york-farmers-market/
LOCATION:Taste Of NY\, 4640 Taconic State Parkway\, 4640 Taconic State Parkway\, Poughkeepsie\, NY 12603\, Poughkeepsie\, NY\, 12603\, United States
END:VEVENT
BEGIN:VEVENT
DTSTART;TZID=UTC:20230429T100000
DTEND;TZID=UTC:20230429T150000
DTSTAMP:20260424T012333
CREATED:20230508T111626Z
LAST-MODIFIED:20230508T111626Z
UID:2974-1682762400-1682780400@hudsonvalleycoldpressedoils.com
SUMMARY:John Jay FFA Spring Fest
DESCRIPTION:Join us for an agricultural event for the Future Farmers of America. This event will be fun for both adults and children! There will be food trucks\, local vendors and farmers\, animals\, student activities\, touch a tractor & truck\, and so much more! For more information visit: \nhttps://drive.google.com/file/d/19OUWWnR0gtuSV8hUHwpVHYti2rzMDxC9/view?usp=drivesdk
URL:https://hudsonvalleycoldpressedoils.com/event/john-jay-ffa-spring-fest/
LOCATION:John Jay High School\, 2012 NY-52 Hopewell Junction\, NY 12533\, Hopewell Junction\, NY\, 12533\, United States
END:VEVENT
BEGIN:VEVENT
DTSTART;TZID=UTC:20230408T110000
DTEND;TZID=UTC:20230408T150000
DTSTAMP:20260424T012333
CREATED:20230508T111258Z
LAST-MODIFIED:20230508T111328Z
UID:2960-1680951600-1680966000@hudsonvalleycoldpressedoils.com
SUMMARY:Spring Hop & Shop
DESCRIPTION:Join us Saturday\, April 8th\, from 11 AM – 3 PM for our annual Spring Hop & Shop! \nBring your family and enjoy free photos with the Easter Bunny (patrons must bring their own device to take the photo on)\, and retail pop-ups by your favorite local vendors. Visit https://facebook.com/events/s/spring-hop-shop/159023940315285/  to find out more.
URL:https://hudsonvalleycoldpressedoils.com/event/spring-hop-shop/
LOCATION:Eastdale Village Town Center\, 10 Otto Way\, Poughkeepsie\, NY 12603\, Poughkeepsie\, NY\, 12603\, United States
END:VEVENT
END:VCALENDAR